BEGIN:VCALENDAR
VERSION:2.0
PRODID:-//Netzwerk Freie Szene Saar e.V. - ECPv6.15.20//NONSGML v1.0//EN
CALSCALE:GREGORIAN
METHOD:PUBLISH
X-WR-CALNAME:Netzwerk Freie Szene Saar e.V.
X-ORIGINAL-URL:https://www.freieszenesaar.de
X-WR-CALDESC:Veranstaltungen für Netzwerk Freie Szene Saar e.V.
REFRESH-INTERVAL;VALUE=DURATION:PT1H
X-Robots-Tag:noindex
X-PUBLISHED-TTL:PT1H
BEGIN:VTIMEZONE
TZID:Europe/Berlin
BEGIN:DAYLIGHT
TZOFFSETFROM:+0100
TZOFFSETTO:+0200
TZNAME:CEST
DTSTART:20240331T010000
END:DAYLIGHT
BEGIN:STANDARD
TZOFFSETFROM:+0200
TZOFFSETTO:+0100
TZNAME:CET
DTSTART:20241027T010000
END:STANDARD
BEGIN:DAYLIGHT
TZOFFSETFROM:+0100
TZOFFSETTO:+0200
TZNAME:CEST
DTSTART:20250330T010000
END:DAYLIGHT
BEGIN:STANDARD
TZOFFSETFROM:+0200
TZOFFSETTO:+0100
TZNAME:CET
DTSTART:20251026T010000
END:STANDARD
BEGIN:DAYLIGHT
TZOFFSETFROM:+0100
TZOFFSETTO:+0200
TZNAME:CEST
DTSTART:20260329T010000
END:DAYLIGHT
BEGIN:STANDARD
TZOFFSETFROM:+0200
TZOFFSETTO:+0100
TZNAME:CET
DTSTART:20261025T010000
END:STANDARD
END:VTIMEZONE
BEGIN:VEVENT
DTSTART;TZID=Europe/Berlin:20250705T193000
DTEND;TZID=Europe/Berlin:20250705T210000
DTSTAMP:20260423T075709
CREATED:20250606T062457Z
LAST-MODIFIED:20250606T062457Z
UID:6919-1751743800-1751749200@www.freieszenesaar.de
SUMMARY:Trio musicale: Tblissi – Nantes – Saarbrücken
DESCRIPTION:Gemeinsam mit der Landeshauptstadt Saarbrücken feiert der Gemischte Saarbrücker Damenchor die Jubiläen der Städtepartnerschaften: 50 Jahre mit Tbilissi (Georgien) und 60 Jahre mit Nantes (Frankreich). \nDer Chor pflegt seit Jahrzehnten freundschaftliche Kontakte zu Frauenchören der beiden Partnerstädte. Dabei gaben die Sängerinnen mehrfach zusammen Konzerte in allen drei Städten. Lebhaft in Erinnerung ist der gemeinsame Auftritt beim vorigen runden Jubiläum 2015 auf der Saarbrücker Rathaustreppe. \nDie diesjährigen Feierlichkeiten nimmt der Chor zum Anlass\, Liedgut aus den drei Ländern in seiner bekannt eigenwilligen Art zu interpretieren. \nDie langjährige Brücke zwischen den Partnerstädten wird zudem mit Instrumentalstücken und Texten aus den drei Nationen gewürdigt. \nKlavier: Marina Kavtaradze\nFlöte: Christine Hüls\nKünstlerische Leitung: Amei Scheib
URL:https://www.freieszenesaar.de/veranstaltung/trio-musicale-tblissi-nantes-saarbruecken/
LOCATION:Rathausfestsaal Saarbrücken\, Rathausplatz 1\, Saarbrücken\, 66111
CATEGORIES:Konzerte
ATTACH;FMTTYPE=image/png:https://www.freieszenesaar.de/wp-content/uploads/2025/06/Plakat-Trio-Musicale_5.7.25_Rathaus.png
ORGANIZER;CN="Gemischter Saarbr%C3%BCcker Damenchor":MAILTO:kontakt@amei-scheib.de
END:VEVENT
END:VCALENDAR