BEGIN:VCALENDAR
VERSION:2.0
PRODID:-//Netzwerk Freie Szene Saar e.V. - ECPv6.15.20//NONSGML v1.0//EN
CALSCALE:GREGORIAN
METHOD:PUBLISH
X-WR-CALNAME:Netzwerk Freie Szene Saar e.V.
X-ORIGINAL-URL:https://www.freieszenesaar.de
X-WR-CALDESC:Veranstaltungen für Netzwerk Freie Szene Saar e.V.
REFRESH-INTERVAL;VALUE=DURATION:PT1H
X-Robots-Tag:noindex
X-PUBLISHED-TTL:PT1H
BEGIN:VTIMEZONE
TZID:Europe/Berlin
BEGIN:DAYLIGHT
TZOFFSETFROM:+0100
TZOFFSETTO:+0200
TZNAME:CEST
DTSTART:20240331T010000
END:DAYLIGHT
BEGIN:STANDARD
TZOFFSETFROM:+0200
TZOFFSETTO:+0100
TZNAME:CET
DTSTART:20241027T010000
END:STANDARD
BEGIN:DAYLIGHT
TZOFFSETFROM:+0100
TZOFFSETTO:+0200
TZNAME:CEST
DTSTART:20250330T010000
END:DAYLIGHT
BEGIN:STANDARD
TZOFFSETFROM:+0200
TZOFFSETTO:+0100
TZNAME:CET
DTSTART:20251026T010000
END:STANDARD
BEGIN:DAYLIGHT
TZOFFSETFROM:+0100
TZOFFSETTO:+0200
TZNAME:CEST
DTSTART:20260329T010000
END:DAYLIGHT
BEGIN:STANDARD
TZOFFSETFROM:+0200
TZOFFSETTO:+0100
TZNAME:CET
DTSTART:20261025T010000
END:STANDARD
END:VTIMEZONE
BEGIN:VEVENT
DTSTART;TZID=Europe/Berlin:20250323T170000
DTEND;TZID=Europe/Berlin:20250323T180000
DTSTAMP:20260423T144546
CREATED:20250317T074532Z
LAST-MODIFIED:20250317T104438Z
UID:6594-1742749200-1742752800@www.freieszenesaar.de
SUMMARY:Soñando en Español
DESCRIPTION:In ihrem neuesten Programm ist Harfenistin Verena Jochum beides: Musikerin und Erzählerin. Virtuoses Harfenspiel und lebendig\, emotional sowie effektvoll erzählte Geschichten verschmelzen miteinander zu einer einzigartigen Soloperformance\, die auf diese Weise auf keiner anderen Bühne zu erleben ist. \nDie Zuhörenden erwartet ein abwechslungsreiches Programm mit impressionistischen Werken\, eigenen Arrangements und Kompositionen der amerikanischen Harfenistin und Komponistin Deborah Henson-Conant. \nIm Mittelpunkt des Konzertes steht Deborah Henson-Conants Konzert „Soñando en Español“. Jeder Satz des Konzertes beruht auf einer kleinen Geschichte. Verena Jochums fesselnde und außergewöhnliche Bearbeitung vereint die Geschichten mit romantischen\, verträumten Teilen und feurigen\, perkussiven sowie virtuosen Passagen. Neben der Entdeckung von Romanze und Liebe wird die Kraft der Leidenschaft zu Musik und Rhythmus vertont. \nDie drei Sätze entführen das Publikum in verschiedene Tanzszenen\, sei es ein ausgelassener Tanz im Mondenschein mit einem mexikanischen Hut\, ein Walzer in der Küche begleitet von Harfenmusik oder ein Menuett am Hofe Marie Antoinettes\, das mit einem Flamenco verschmilzt.
URL:https://www.freieszenesaar.de/veranstaltung/sonando-en-espanol/
LOCATION:CaritasKlinikum Saarbrücken St. Theresia\, Rheinstraße 2\, Saarbrücken\, 66113
CATEGORIES:Konzert
ATTACH;FMTTYPE=image/jpeg:https://www.freieszenesaar.de/wp-content/uploads/2025/03/sonando-Foto-Verena-Jochum-©Robertus-Koppies-scaled.jpg
END:VEVENT
END:VCALENDAR