BEGIN:VCALENDAR
VERSION:2.0
PRODID:-//Netzwerk Freie Szene Saar e.V. - ECPv6.15.20//NONSGML v1.0//EN
CALSCALE:GREGORIAN
METHOD:PUBLISH
X-WR-CALNAME:Netzwerk Freie Szene Saar e.V.
X-ORIGINAL-URL:https://www.freieszenesaar.de
X-WR-CALDESC:Veranstaltungen für Netzwerk Freie Szene Saar e.V.
REFRESH-INTERVAL;VALUE=DURATION:PT1H
X-Robots-Tag:noindex
X-PUBLISHED-TTL:PT1H
BEGIN:VTIMEZONE
TZID:Europe/Berlin
BEGIN:DAYLIGHT
TZOFFSETFROM:+0100
TZOFFSETTO:+0200
TZNAME:CEST
DTSTART:20240331T010000
END:DAYLIGHT
BEGIN:STANDARD
TZOFFSETFROM:+0200
TZOFFSETTO:+0100
TZNAME:CET
DTSTART:20241027T010000
END:STANDARD
BEGIN:DAYLIGHT
TZOFFSETFROM:+0100
TZOFFSETTO:+0200
TZNAME:CEST
DTSTART:20250330T010000
END:DAYLIGHT
BEGIN:STANDARD
TZOFFSETFROM:+0200
TZOFFSETTO:+0100
TZNAME:CET
DTSTART:20251026T010000
END:STANDARD
BEGIN:DAYLIGHT
TZOFFSETFROM:+0100
TZOFFSETTO:+0200
TZNAME:CEST
DTSTART:20260329T010000
END:DAYLIGHT
BEGIN:STANDARD
TZOFFSETFROM:+0200
TZOFFSETTO:+0100
TZNAME:CET
DTSTART:20261025T010000
END:STANDARD
END:VTIMEZONE
BEGIN:VEVENT
DTSTART;TZID=Europe/Berlin:20250924T083000
DTEND;TZID=Europe/Berlin:20250924T091500
DTSTAMP:20260423T062257
CREATED:20250912T173938Z
LAST-MODIFIED:20250917T200614Z
UID:10000145-1758702600-1758705300@www.freieszenesaar.de
SUMMARY:Theaterwoche für junges Publikum: Pezzettino
DESCRIPTION:*** Für Schulklassen *** \nPezzettino ist klein\, quadratisch – und voller Fragen. Bin ich nur ein Stückchen von etwas Größerem? Wohin gehöre ich? Auf seiner Reise begegnet er den unterschiedlichsten Figuren\, erlebt Abenteuer und entdeckt dabei: Er ist genau richtig so\, wie er ist. \nMit Klängen\, Liedern und Bildern entfaltet sich ein fantasievolles Musiktheater für junges Publikum – eine poetische Reise über Selbstvertrauen\, Vielfalt und die Kraft\, den eigenen Platz in der Welt zu finden. \nNach dem Bilderbuchklassiker von Leo Lionni \n*************** \nKinderKulturWoche \nVom 22. bis 26. September 2025 veranstaltet das Netzwerk Freie Szene Saar gemeinsam mit der Stadt Völklingen erstmals die KinderKulturWoche – eine ganze Woche Theater für Junges Publikum\, speziell für Schulklassen. Alle Vorstellungen sind für die Kinder kostenlos. Veranstaltungsort ist die Kulturhalle Wehrden in Völklingen. \nVölklingen zählt zu den Städten mit einer besonders hohen Armutsquote. Für viele Kinder und Jugendliche bedeutet das\, dass sie nur selten Zugang zu kulturellen Angeboten haben. Genau hier setzt die KinderKulturWoche an: Kulturelle Teilhabe darf nicht vom Geldbeutel abhängen.
URL:https://www.freieszenesaar.de/veranstaltung/pezzettino-kinderkulturwoche/2025-09-24/1/
LOCATION:Kulturhalle Wehrden\, Schaffhauser Str. 18\, Völklingen\, Saarland\, 66333\, Germany
ATTACH;FMTTYPE=image/png:https://www.freieszenesaar.de/wp-content/uploads/2025/09/Pezzetino_In.Zeit-Ensemble.png
END:VEVENT
END:VCALENDAR