BEGIN:VCALENDAR
VERSION:2.0
PRODID:-//Netzwerk Freie Szene Saar e.V. - ECPv6.15.20//NONSGML v1.0//EN
CALSCALE:GREGORIAN
METHOD:PUBLISH
X-WR-CALNAME:Netzwerk Freie Szene Saar e.V.
X-ORIGINAL-URL:https://www.freieszenesaar.de
X-WR-CALDESC:Veranstaltungen für Netzwerk Freie Szene Saar e.V.
REFRESH-INTERVAL;VALUE=DURATION:PT1H
X-Robots-Tag:noindex
X-PUBLISHED-TTL:PT1H
BEGIN:VTIMEZONE
TZID:Europe/Helsinki
BEGIN:DAYLIGHT
TZOFFSETFROM:+0200
TZOFFSETTO:+0300
TZNAME:EEST
DTSTART:20240331T010000
END:DAYLIGHT
BEGIN:STANDARD
TZOFFSETFROM:+0300
TZOFFSETTO:+0200
TZNAME:EET
DTSTART:20241027T010000
END:STANDARD
BEGIN:DAYLIGHT
TZOFFSETFROM:+0200
TZOFFSETTO:+0300
TZNAME:EEST
DTSTART:20250330T010000
END:DAYLIGHT
BEGIN:STANDARD
TZOFFSETFROM:+0300
TZOFFSETTO:+0200
TZNAME:EET
DTSTART:20251026T010000
END:STANDARD
BEGIN:DAYLIGHT
TZOFFSETFROM:+0200
TZOFFSETTO:+0300
TZNAME:EEST
DTSTART:20260329T010000
END:DAYLIGHT
BEGIN:STANDARD
TZOFFSETFROM:+0300
TZOFFSETTO:+0200
TZNAME:EET
DTSTART:20261025T010000
END:STANDARD
END:VTIMEZONE
BEGIN:VEVENT
DTSTART;TZID=Europe/Helsinki:20250528T190000
DTEND;TZID=Europe/Helsinki:20250528T201500
DTSTAMP:20260423T103730
CREATED:20250305T101410Z
LAST-MODIFIED:20250305T101410Z
UID:6516-1748458800-1748463300@www.freieszenesaar.de
SUMMARY:Odysseus
DESCRIPTION:Kim Nørrevigs preisgekröntes Stück „Odysseus“\, eine moderne und spannungsgeladene Interpretation des antiken Mythos\, wird hier von Eva Kammigan als beeindruckendes Solo aufgeführt. \nIn einer minimalistischen Inszenierung\, die allein auf die Kraft der Erzählung setzt\, schlüpft Eva Kammigan in ein Dutzend Rollen. Mit einer Klappleiter als einzigem Requisit haucht sie Figuren wie dem listenreichen Odysseus\, dem furchterregenden Zyklopen oder der verführerischen Circe intensives Leben ein. Ihr Spiel ist ebenso unterhaltsam und mitreißend wie authentisch – ein Erlebnis\, das nicht nur die Geschichten aus Homers „Odyssee“ lebendig macht\, sondern auch tief berührt. \nKim Nørrevigs Bearbeitung des 3000 Jahre alten Stoffes reduziert die epische Geschichte auf ihre Essenz\, ohne an Spannung oder Wucht einzubüßen. Die Irrfahrten des Odysseus – seine Kämpfe mit Ungeheuern\, Göttern und entfesselten Naturgewalten – werden in dieser Inszenierung von Frank Lion in der Produktion von Barbara Bruhn mit einem frischen\, zeitgemäßen Blick erzählt.
URL:https://www.freieszenesaar.de/veranstaltung/odysseus/
LOCATION:Theaterschiff Maria-Helena Saarbrücken\, Willi Graf Ufer\, Saarbrücken\, 66111
CATEGORIES:Theater
ATTACH;FMTTYPE=image/png:https://www.freieszenesaar.de/wp-content/uploads/2025/03/Odyseus-Iris-Maurer.png
GEO:49.232084412668;6.9940589262058
X-APPLE-STRUCTURED-LOCATION;VALUE=URI;X-ADDRESS=Theaterschiff Maria-Helena Saarbrücken Willi Graf Ufer Saarbrücken 66111;X-APPLE-RADIUS=500;X-TITLE=Willi Graf Ufer:geo:6.9940589262058,49.232084412668
END:VEVENT
END:VCALENDAR