BEGIN:VCALENDAR
VERSION:2.0
PRODID:-//Netzwerk Freie Szene Saar e.V. - ECPv6.15.20//NONSGML v1.0//EN
CALSCALE:GREGORIAN
METHOD:PUBLISH
X-WR-CALNAME:Netzwerk Freie Szene Saar e.V.
X-ORIGINAL-URL:https://www.freieszenesaar.de
X-WR-CALDESC:Veranstaltungen für Netzwerk Freie Szene Saar e.V.
REFRESH-INTERVAL;VALUE=DURATION:PT1H
X-Robots-Tag:noindex
X-PUBLISHED-TTL:PT1H
BEGIN:VTIMEZONE
TZID:Europe/Berlin
BEGIN:DAYLIGHT
TZOFFSETFROM:+0100
TZOFFSETTO:+0200
TZNAME:CEST
DTSTART:20240331T010000
END:DAYLIGHT
BEGIN:STANDARD
TZOFFSETFROM:+0200
TZOFFSETTO:+0100
TZNAME:CET
DTSTART:20241027T010000
END:STANDARD
BEGIN:DAYLIGHT
TZOFFSETFROM:+0100
TZOFFSETTO:+0200
TZNAME:CEST
DTSTART:20250330T010000
END:DAYLIGHT
BEGIN:STANDARD
TZOFFSETFROM:+0200
TZOFFSETTO:+0100
TZNAME:CET
DTSTART:20251026T010000
END:STANDARD
BEGIN:DAYLIGHT
TZOFFSETFROM:+0100
TZOFFSETTO:+0200
TZNAME:CEST
DTSTART:20260329T010000
END:DAYLIGHT
BEGIN:STANDARD
TZOFFSETFROM:+0200
TZOFFSETTO:+0100
TZNAME:CET
DTSTART:20261025T010000
END:STANDARD
END:VTIMEZONE
BEGIN:VEVENT
DTSTART;TZID=Europe/Berlin:20250706T163000
DTEND;TZID=Europe/Berlin:20250706T181000
DTSTAMP:20260423T075534
CREATED:20250609T124308Z
LAST-MODIFIED:20250609T124308Z
UID:6953-1751819400-1751825400@www.freieszenesaar.de
SUMMARY:„Le chat sur le toit“
DESCRIPTION:Unter dem Titel „Le chat sur le toit“ verwandeln Lisa Ströckens (Sopran) und Thomas Layes (am Flügel) das frankophile Saarbrücker Kulturbistro „Terminus“ (Bleichstr. 32\, 66111 Saarbrücken) in ein bunt schillerndes\, unterhaltsam-anspruchsvolles „Café-Concert“. Auf dem Programm dieser 28. Ausgabe der Konzertreihe „Musik-Salon am Sonntag“ stehen französische Vokal- und Klavierwerke\, moderiert von Ralf Peter. \nDazu die Sängerin: „Wenn ich an Saarbrücken denke\, dann ist das immer ein wenig wie ein langsamer Film. Ich musste erst weit wegziehen\, um zu verstehen\, wie viel französischer Flair eigentlich in dieser Stadt liegt. In der Sprache\, in den kleinen Cafés\, in der Art\, wie man hier Zeit verbringt. Ich erinnere mich noch genau\, wie es sich anfühlt\, nachts im Sommer durch die Straßen zu ziehen – wenn es vom Ländlichen ins Städtische übergeht. Wenn die Fenster offenstehen\, irgendwo noch jemand raucht\, redet\, Musik läuft. Wie schön so ein mit Menschen gefüllter Marktplatz klingt. Und über all dem: Eine Katze\, die wie selbstverständlich auf den Dächern sitzt\, über die Stadt blickt – still\, wach\, frei. „Le chat sur le toit“ – die Katze auf dem Dach – ist das Bild\, das uns durch diesen Abend trägt. Denn dieser Abend ist auch eine Einladung\, genauer hinzusehen. Und hinzuhören. Ich möchte heute Stimmen hörbar machen\, die oft zu wenig Platz bekommen: Werke von Komponistinnen – und auch Komponisten –\, die nicht auf den großen Plakaten stehen\, aber umso feinere Spuren hinterlassen haben.
URL:https://www.freieszenesaar.de/veranstaltung/le-chat-sur-le-toit/
LOCATION:Terminus\, Bleichstr. 32\, Saarbrücken\, Saarland\, 66111\, Germany
CATEGORIES:Konzerte,Moderiertes Konzert
ATTACH;FMTTYPE=image/png:https://www.freieszenesaar.de/wp-content/uploads/2025/06/bild.png
END:VEVENT
END:VCALENDAR