BEGIN:VCALENDAR
VERSION:2.0
PRODID:-//Netzwerk Freie Szene Saar e.V. - ECPv6.15.20//NONSGML v1.0//EN
CALSCALE:GREGORIAN
METHOD:PUBLISH
X-WR-CALNAME:Netzwerk Freie Szene Saar e.V.
X-ORIGINAL-URL:https://www.freieszenesaar.de
X-WR-CALDESC:Veranstaltungen für Netzwerk Freie Szene Saar e.V.
REFRESH-INTERVAL;VALUE=DURATION:PT1H
X-Robots-Tag:noindex
X-PUBLISHED-TTL:PT1H
BEGIN:VTIMEZONE
TZID:Europe/Helsinki
BEGIN:DAYLIGHT
TZOFFSETFROM:+0200
TZOFFSETTO:+0300
TZNAME:EEST
DTSTART:20240331T010000
END:DAYLIGHT
BEGIN:STANDARD
TZOFFSETFROM:+0300
TZOFFSETTO:+0200
TZNAME:EET
DTSTART:20241027T010000
END:STANDARD
BEGIN:DAYLIGHT
TZOFFSETFROM:+0200
TZOFFSETTO:+0300
TZNAME:EEST
DTSTART:20250330T010000
END:DAYLIGHT
BEGIN:STANDARD
TZOFFSETFROM:+0300
TZOFFSETTO:+0200
TZNAME:EET
DTSTART:20251026T010000
END:STANDARD
BEGIN:DAYLIGHT
TZOFFSETFROM:+0200
TZOFFSETTO:+0300
TZNAME:EEST
DTSTART:20260329T010000
END:DAYLIGHT
BEGIN:STANDARD
TZOFFSETFROM:+0300
TZOFFSETTO:+0200
TZNAME:EET
DTSTART:20261025T010000
END:STANDARD
END:VTIMEZONE
BEGIN:VEVENT
DTSTART;TZID=Europe/Helsinki:20250920T180000
DTEND;TZID=Europe/Helsinki:20250920T203000
DTSTAMP:20260421T154451
CREATED:20250221T142918Z
LAST-MODIFIED:20250310T081730Z
UID:6183-1758391200-1758400200@www.freieszenesaar.de
SUMMARY:La Grande Forme
DESCRIPTION:In dieser Serie geht es um ein Team von Ermittlerinnen\, die die Werkzeuge der Schauspielerei nutzen\, um Fälle zu lösen.\nDas Team? Ist gemacht. Das Rendezvous? Gegeben. Die Mission? Ermitteln\, natürlich! Wie bitte? Die Handlung\, die Situation\, den Text und den Tatort rekonstruieren. Welches Verbrechen? Oh\, die Akten stapeln sich\, halten Sie sich fest! Was ist die Methode? Übersetzen\, kämpfen\, simulieren\, singen\, zerstören\, abheben\, recyceln. Die Erzählungen dekonstruieren\, die unsere Vorstellungskraft hervorbringt\, die ein bisschen zu triumphierend und ein bisschen zu weit von der Realität entfernt ist. Waffen? Werkzeuge! Geölt\, geladen\, bereit. Katastrophen? Na klar. Gegner? Holen Sie sich ein Ticket. Ein Happy End? Auf keinen Fall. Einen Helden? Heldinnen\, sorry. Etwas zum Lachen? Wenigstens das. Emotionen? Nie und nimmer!\nVon Episode zu Episode spielen sie mit den Codes des Erzählens wie des Schauspiels und liefern einen Krimi in einem neuen Format.
URL:https://www.freieszenesaar.de/veranstaltung/la-grande-forme-2/
LOCATION:Bataville\, 8\, Avenue Tomas Bata\, Moussey\, 57770
CATEGORIES:Außerhalb des Saarlandes,Musiktheater,Tanz,Theater
ATTACH;FMTTYPE=image/jpeg:https://www.freieszenesaar.de/wp-content/uploads/R-Team-224-078-I15uVz.tmp
GEO:48.6859031;6.8050924
X-APPLE-STRUCTURED-LOCATION;VALUE=URI;X-ADDRESS=Bataville 8 Avenue Tomas Bata Moussey 57770;X-APPLE-RADIUS=500;X-TITLE=8\, Avenue Tomas Bata:geo:6.8050924,48.6859031
END:VEVENT
END:VCALENDAR