BEGIN:VCALENDAR
VERSION:2.0
PRODID:-//Netzwerk Freie Szene Saar e.V. - ECPv6.15.20//NONSGML v1.0//EN
CALSCALE:GREGORIAN
METHOD:PUBLISH
X-WR-CALNAME:Netzwerk Freie Szene Saar e.V.
X-ORIGINAL-URL:https://www.freieszenesaar.de
X-WR-CALDESC:Veranstaltungen für Netzwerk Freie Szene Saar e.V.
REFRESH-INTERVAL;VALUE=DURATION:PT1H
X-Robots-Tag:noindex
X-PUBLISHED-TTL:PT1H
BEGIN:VTIMEZONE
TZID:Europe/Berlin
BEGIN:DAYLIGHT
TZOFFSETFROM:+0100
TZOFFSETTO:+0200
TZNAME:CEST
DTSTART:20240331T010000
END:DAYLIGHT
BEGIN:STANDARD
TZOFFSETFROM:+0200
TZOFFSETTO:+0100
TZNAME:CET
DTSTART:20241027T010000
END:STANDARD
BEGIN:DAYLIGHT
TZOFFSETFROM:+0100
TZOFFSETTO:+0200
TZNAME:CEST
DTSTART:20250330T010000
END:DAYLIGHT
BEGIN:STANDARD
TZOFFSETFROM:+0200
TZOFFSETTO:+0100
TZNAME:CET
DTSTART:20251026T010000
END:STANDARD
BEGIN:DAYLIGHT
TZOFFSETFROM:+0100
TZOFFSETTO:+0200
TZNAME:CEST
DTSTART:20260329T010000
END:DAYLIGHT
BEGIN:STANDARD
TZOFFSETFROM:+0200
TZOFFSETTO:+0100
TZNAME:CET
DTSTART:20261025T010000
END:STANDARD
END:VTIMEZONE
BEGIN:VEVENT
DTSTART;TZID=Europe/Berlin:20250618T190000
DTEND;TZID=Europe/Berlin:20250618T194500
DTSTAMP:20260419T155452
CREATED:20250609T122419Z
LAST-MODIFIED:20250609T122419Z
UID:6938-1750273200-1750275900@www.freieszenesaar.de
SUMMARY:KRIEG. STELL DIR VOR\, ER WÄRE HIER
DESCRIPTION:Ein Gedankenexperiment:\nStell dir vor\, mitten in Europa bricht ein Krieg aus\, weil die Europäische Union zerbrochen ist. Deutschland hatte sich geweigert\, weiterhin für ärmere Länder zu zahlen\, und plötzlich stehen Länder wie Frankreich\, Spanien und Griechenland als Feinde Deutschlands da. Ein andauernder Krieg hat die Zivilbevölkerung schwer getroffen: Hunger\, Kälte\, Wohnungsnot und die ständige Angst vor Bomben sind allgegenwärtig. Auch die Familie des 14-jährigen Protagonisten hat Opfer zu beklagen\, und als die Mutter schwer erkrankt\, bleibt nur noch eine Hoffnung: die Flucht nach Ägypten\, dem nächsten friedlichen Land. \nKrieg. Stell dir vor\, er wäre hier basiert auf Janne Tellers Werk und wirft die provokante Frage auf:\nWas\, wenn bei uns Krieg wäre? Wohin würdest du gehen?\nDurch diese dystopische Umkehr wird der Zuschauer in die Lage von Kriegsflüchtlingen versetzt. Das Stück macht die Fluchterfahrungen und die verzweifelte Suche nach Sicherheit emotional greifbar und regt zum Nachdenken über unsere Privilegien und unsere Verantwortung für den Frieden in Europa an. \nDie Darstellung von Wohlstand und Frieden in der arabischen Welt setzt einen vielleicht überraschenden Perspektivwechsel in Gang\, der das Publikum dazu einlädt\, unsere eigene Lebensrealität aus einem neuen Blickwinkel zu betrachten.\nNach jeder Aufführung ist eine Diskussion geplant\, um das Erlebte gemeinsam zu reflektieren.
URL:https://www.freieszenesaar.de/veranstaltung/krieg-stell-dir-vor-er-waere-hier/
LOCATION:Dar-in e.V.\, Meerwiesertalweg 3\, Saarbrücken\, 66123
CATEGORIES:Schauspiel
ATTACH;FMTTYPE=image/jpeg:https://www.freieszenesaar.de/wp-content/uploads/2025/06/IMG-20250603-WA0001.jpg
END:VEVENT
END:VCALENDAR