BEGIN:VCALENDAR
VERSION:2.0
PRODID:-//Netzwerk Freie Szene Saar e.V. - ECPv6.15.20//NONSGML v1.0//EN
CALSCALE:GREGORIAN
METHOD:PUBLISH
X-WR-CALNAME:Netzwerk Freie Szene Saar e.V.
X-ORIGINAL-URL:https://www.freieszenesaar.de
X-WR-CALDESC:Veranstaltungen für Netzwerk Freie Szene Saar e.V.
REFRESH-INTERVAL;VALUE=DURATION:PT1H
X-Robots-Tag:noindex
X-PUBLISHED-TTL:PT1H
BEGIN:VTIMEZONE
TZID:Europe/Berlin
BEGIN:DAYLIGHT
TZOFFSETFROM:+0100
TZOFFSETTO:+0200
TZNAME:CEST
DTSTART:20240331T010000
END:DAYLIGHT
BEGIN:STANDARD
TZOFFSETFROM:+0200
TZOFFSETTO:+0100
TZNAME:CET
DTSTART:20241027T010000
END:STANDARD
BEGIN:DAYLIGHT
TZOFFSETFROM:+0100
TZOFFSETTO:+0200
TZNAME:CEST
DTSTART:20250330T010000
END:DAYLIGHT
BEGIN:STANDARD
TZOFFSETFROM:+0200
TZOFFSETTO:+0100
TZNAME:CET
DTSTART:20251026T010000
END:STANDARD
BEGIN:DAYLIGHT
TZOFFSETFROM:+0100
TZOFFSETTO:+0200
TZNAME:CEST
DTSTART:20260329T010000
END:DAYLIGHT
BEGIN:STANDARD
TZOFFSETFROM:+0200
TZOFFSETTO:+0100
TZNAME:CET
DTSTART:20261025T010000
END:STANDARD
END:VTIMEZONE
BEGIN:VEVENT
DTSTART;TZID=Europe/Berlin:20250906T190000
DTEND;TZID=Europe/Berlin:20250906T213000
DTSTAMP:20260423T063528
CREATED:20250825T130848Z
LAST-MODIFIED:20250825T130848Z
UID:7101-1757185200-1757194200@www.freieszenesaar.de
SUMMARY:In meinem Kleiderschrank dominiert die Farbe Blau
DESCRIPTION:In Kleinblittersdorf im alten Dom befindet sich das Atelier eSebaa\, ein Ort für kreativen Austausch und Yoga. Seit 2023 besteht die Schreibwerkstatt\, in der Grundlagen und Impulse von Eveline Sebaa weitergegeben werden.\nDie zweite Anthologie der Schreibwerkstatt ist nun fertig und am 06.09. findet die Buchpräsentation im Ballsaal statt. Ein Jahr haben sich die TeilnehmerInnen regelmäßig getroffen\, gelesen\, diskutiert\, weiterentwickelt. Im geschützten Raum Persönliches erfahren\, Erzählperspektiven erforscht und Entscheidungen getroffen. Autobiographisches und Erdachtes\, Reflektierendes und Erstaunliches haben die TeilnehmerInnen erarbeitet und sind ihrer Schreibweise ein Stück näher gekommen.\nDie AutorInnen lesen ausgewählte Texte aus dem gerade erschienenen Buch und Eveline Sebaa moderiert den Abend.\nIm Anschluss ist noch Raum und Zeit für Gespräche.
URL:https://www.freieszenesaar.de/veranstaltung/in-meinem-kleiderschrank-dominiert-die-farbe-blau/
LOCATION:Atelier eSebaa\, An der Alten Kirche 1\, Kleinblittersdorf\, 66271
CATEGORIES:Allgemein,Szenische Lesung, Buchpräsentation
ATTACH;FMTTYPE=image/png:https://www.freieszenesaar.de/wp-content/uploads/2025/08/Plakat-Schreibwerkstatt-060925.png
GEO:49.1553036;7.0350526
X-APPLE-STRUCTURED-LOCATION;VALUE=URI;X-ADDRESS=Atelier eSebaa An der Alten Kirche 1 Kleinblittersdorf 66271;X-APPLE-RADIUS=500;X-TITLE=An der Alten Kirche 1:geo:7.0350526,49.1553036
END:VEVENT
END:VCALENDAR