BEGIN:VCALENDAR
VERSION:2.0
PRODID:-//Netzwerk Freie Szene Saar e.V. - ECPv6.15.20//NONSGML v1.0//EN
CALSCALE:GREGORIAN
METHOD:PUBLISH
X-WR-CALNAME:Netzwerk Freie Szene Saar e.V.
X-ORIGINAL-URL:https://www.freieszenesaar.de
X-WR-CALDESC:Veranstaltungen für Netzwerk Freie Szene Saar e.V.
REFRESH-INTERVAL;VALUE=DURATION:PT1H
X-Robots-Tag:noindex
X-PUBLISHED-TTL:PT1H
BEGIN:VTIMEZONE
TZID:Europe/Berlin
BEGIN:DAYLIGHT
TZOFFSETFROM:+0100
TZOFFSETTO:+0200
TZNAME:CEST
DTSTART:20240331T010000
END:DAYLIGHT
BEGIN:STANDARD
TZOFFSETFROM:+0200
TZOFFSETTO:+0100
TZNAME:CET
DTSTART:20241027T010000
END:STANDARD
BEGIN:DAYLIGHT
TZOFFSETFROM:+0100
TZOFFSETTO:+0200
TZNAME:CEST
DTSTART:20250330T010000
END:DAYLIGHT
BEGIN:STANDARD
TZOFFSETFROM:+0200
TZOFFSETTO:+0100
TZNAME:CET
DTSTART:20251026T010000
END:STANDARD
BEGIN:DAYLIGHT
TZOFFSETFROM:+0100
TZOFFSETTO:+0200
TZNAME:CEST
DTSTART:20260329T010000
END:DAYLIGHT
BEGIN:STANDARD
TZOFFSETFROM:+0200
TZOFFSETTO:+0100
TZNAME:CET
DTSTART:20261025T010000
END:STANDARD
END:VTIMEZONE
BEGIN:VEVENT
DTSTART;TZID=Europe/Berlin:20250913T150000
DTEND;TZID=Europe/Berlin:20250913T154500
DTSTAMP:20260423T050718
CREATED:20250911T204330Z
LAST-MODIFIED:20250912T142856Z
UID:7192-1757775600-1757778300@www.freieszenesaar.de
SUMMARY:Fairer Kaffee zu Bach-Klängen
DESCRIPTION:Kaffeegenuss gehört zum Lifestyle – auch bei uns im Saarland. Aber war das schon immer so? Offenbar ja\, zumindest waren Kaffeejunkies schon im 18. Jahrhundert bekannt. Etwa 1734 komponierte Johann Sebastian Bach eine Kantate über eine kaffeesüchtige Tochter\, deren Vater ihr diese Vorliebe austreiben will. \nZu den barocken Klängen des Hochgesangs an das belebende Getränk aus eben dieser Kantate lädt die Fairtrade Initiative Saarland zur Fairkostung von fair gehandeltem Kaffee ein. \n15 Uhr spielbar\, Cecilienstraße 15\, Saarbrücken\n16 Uhr Contigo\, St. Johanner Markt 27\, Saarbrücken
URL:https://www.freieszenesaar.de/veranstaltung/fairer-kaffee-zu-bach-klaengen/
LOCATION:spielbar\, Cecilienstraße 15\, Saarbrücken\, 66111
CATEGORIES:Allgemein,Konzerte,Performance
ATTACH;FMTTYPE=image/jpeg:https://www.freieszenesaar.de/wp-content/uploads/2025/09/Fair_Trade-Woche2025.jpg
END:VEVENT
END:VCALENDAR