BEGIN:VCALENDAR
VERSION:2.0
PRODID:-//Netzwerk Freie Szene Saar e.V. - ECPv6.15.20//NONSGML v1.0//EN
CALSCALE:GREGORIAN
METHOD:PUBLISH
X-WR-CALNAME:Netzwerk Freie Szene Saar e.V.
X-ORIGINAL-URL:https://www.freieszenesaar.de
X-WR-CALDESC:Veranstaltungen für Netzwerk Freie Szene Saar e.V.
REFRESH-INTERVAL;VALUE=DURATION:PT1H
X-Robots-Tag:noindex
X-PUBLISHED-TTL:PT1H
BEGIN:VTIMEZONE
TZID:Europe/Berlin
BEGIN:DAYLIGHT
TZOFFSETFROM:+0100
TZOFFSETTO:+0200
TZNAME:CEST
DTSTART:20240331T010000
END:DAYLIGHT
BEGIN:STANDARD
TZOFFSETFROM:+0200
TZOFFSETTO:+0100
TZNAME:CET
DTSTART:20241027T010000
END:STANDARD
BEGIN:DAYLIGHT
TZOFFSETFROM:+0100
TZOFFSETTO:+0200
TZNAME:CEST
DTSTART:20250330T010000
END:DAYLIGHT
BEGIN:STANDARD
TZOFFSETFROM:+0200
TZOFFSETTO:+0100
TZNAME:CET
DTSTART:20251026T010000
END:STANDARD
BEGIN:DAYLIGHT
TZOFFSETFROM:+0100
TZOFFSETTO:+0200
TZNAME:CEST
DTSTART:20260329T010000
END:DAYLIGHT
BEGIN:STANDARD
TZOFFSETFROM:+0200
TZOFFSETTO:+0100
TZNAME:CET
DTSTART:20261025T010000
END:STANDARD
END:VTIMEZONE
BEGIN:VEVENT
DTSTART;TZID=Europe/Berlin:20251012T190000
DTEND;TZID=Europe/Berlin:20251012T220000
DTSTAMP:20260423T032845
CREATED:20250930T143351Z
LAST-MODIFIED:20251001T100809Z
UID:7268-1760295600-1760306400@www.freieszenesaar.de
SUMMARY:F-Raum
DESCRIPTION:Das Projekt verbindet Kunst\, Performance und gesellschaftliche Themen. In fünf Stationen werden zentrale Aspekte wie Frauenrollen\, Gewalt\, Migration\, Schönheitsideale\, Menstruationszyklus und weibliche Energie künstlerisch beleuchtet. Jede Station kombiniert unterschiedliche Ausdrucksformen – Klang\, Licht\, Projektion\, Tanz und Gesang – zu einem immersiven Erlebnis.\nDie Besucher:innen bewegen sich frei zwischen den Stationen und tauchen in interaktive Installationen\, Videokunst\, Live-Projektionen und performative Spiele ein. So entsteht ein Raum für Reflexion\, Austausch und Begegnung.
URL:https://www.freieszenesaar.de/veranstaltung/f-raum-2/
LOCATION:GarellyHaus\, Saarbrücken\, Eisenbahnstraße 14\, Saarbrücken\, 66117
CATEGORIES:Installation,Konzerte,Performance,Tanz
ATTACH;FMTTYPE=image/jpeg:https://www.freieszenesaar.de/wp-content/uploads/2025/09/IMG-20241214-WA0004-1536x1152.jpg
GEO:49.232844;6.9883183
X-APPLE-STRUCTURED-LOCATION;VALUE=URI;X-ADDRESS=GarellyHaus Saarbrücken Eisenbahnstraße 14 Saarbrücken 66117;X-APPLE-RADIUS=500;X-TITLE=Eisenbahnstraße 14:geo:6.9883183,49.232844
END:VEVENT
END:VCALENDAR