BEGIN:VCALENDAR
VERSION:2.0
PRODID:-//Netzwerk Freie Szene Saar e.V. - ECPv6.15.20//NONSGML v1.0//EN
CALSCALE:GREGORIAN
METHOD:PUBLISH
X-WR-CALNAME:Netzwerk Freie Szene Saar e.V.
X-ORIGINAL-URL:https://www.freieszenesaar.de
X-WR-CALDESC:Veranstaltungen für Netzwerk Freie Szene Saar e.V.
REFRESH-INTERVAL;VALUE=DURATION:PT1H
X-Robots-Tag:noindex
X-PUBLISHED-TTL:PT1H
BEGIN:VTIMEZONE
TZID:Europe/Berlin
BEGIN:DAYLIGHT
TZOFFSETFROM:+0100
TZOFFSETTO:+0200
TZNAME:CEST
DTSTART:20250330T010000
END:DAYLIGHT
BEGIN:STANDARD
TZOFFSETFROM:+0200
TZOFFSETTO:+0100
TZNAME:CET
DTSTART:20251026T010000
END:STANDARD
BEGIN:DAYLIGHT
TZOFFSETFROM:+0100
TZOFFSETTO:+0200
TZNAME:CEST
DTSTART:20260329T010000
END:DAYLIGHT
BEGIN:STANDARD
TZOFFSETFROM:+0200
TZOFFSETTO:+0100
TZNAME:CET
DTSTART:20261025T010000
END:STANDARD
BEGIN:DAYLIGHT
TZOFFSETFROM:+0100
TZOFFSETTO:+0200
TZNAME:CEST
DTSTART:20270328T010000
END:DAYLIGHT
BEGIN:STANDARD
TZOFFSETFROM:+0200
TZOFFSETTO:+0100
TZNAME:CET
DTSTART:20271031T010000
END:STANDARD
END:VTIMEZONE
BEGIN:VEVENT
DTSTART;TZID=Europe/Berlin:20260301T180000
DTEND;TZID=Europe/Berlin:20260301T193000
DTSTAMP:20260423T001226
CREATED:20260105T152244Z
LAST-MODIFIED:20260105T152244Z
UID:7585-1772388000-1772393400@www.freieszenesaar.de
SUMMARY:Eterno Cardeas - Wir sind die Macht
DESCRIPTION:Ein Jugendmusical über den ewigen Kampf zwischen Gut und Böse \nGut gegen Böse – ein altes Lied und doch immer wieder Teil unserer Welt. So auch an der „Eterno Cardeas“\, einer Schule für hochbegabte Jugendliche mit besonderen Fähigkeiten. Dort herrscht ein uralter Kampf zwischen den guten Serena und den bösen Illias. Als eine neue Schülerin an die Schule kommt\, wird dieser Konflikt in ungeahnte Dimensionen katapultiert. Plötzlich steht mehr auf dem Spiel als nur Rivalität. \nEin spannendes Fantasy-Abenteuer für alle ab 12 Jahren – emotional\, geheimnisvoll und voller Energie. \nKostüm: Fabian Schmidt\nBühnenbild: Kathrin Lambert\nMusik: Copy Shop (Emma Paulus\, Jakob Zimmermann\, Aaron Zurkaulen\, Lena Raquet und Lara Wengerek) \nAufführungen:\n27.02.2026 Schulvorstellung Freitag 10:00 Uhr (Besetzung Blau)\n27.02.2026 Vorstellung Freitag 18:00 Uhr (Besetzung Rot)\n28.02.2026 Vorstellung Samstag 18:00 Uhr (Besetzung Rot)\n01.03.2026 Vorstellung Sonntag 18:00 Uhr (Besetzung Blau) \nAnmeldung per E-Mail an: lang@la-ottweiler.de \nDas Projekt ist eine Kooperation der Landesakademie für musisch-kulturelle Bildung\, dem Bund Saarländischer Musikvereine (BSM) und dem Theaterverein Spieltrieb. \nFinanziert wird das Projekt durch das Förderprogramm Kultur macht stark aus Geldern des Bundesministeriums für Bildung und Forschung (BMBF). Projektpartner ist der BMCO.
URL:https://www.freieszenesaar.de/veranstaltung/eterno-cardeas-wir-sind-die-macht-3/
LOCATION:Gebläsehalle Neunkirchen\, An den Hochöfen 1\, Neunkirchen\, 66538
ATTACH;FMTTYPE=image/png:https://www.freieszenesaar.de/wp-content/uploads/2025/12/Eterno-Cardeas_A2_DRUCK-2160-x-1080-px.png
END:VEVENT
END:VCALENDAR