BEGIN:VCALENDAR
VERSION:2.0
PRODID:-//Netzwerk Freie Szene Saar e.V. - ECPv6.15.20//NONSGML v1.0//EN
CALSCALE:GREGORIAN
METHOD:PUBLISH
X-WR-CALNAME:Netzwerk Freie Szene Saar e.V.
X-ORIGINAL-URL:https://www.freieszenesaar.de
X-WR-CALDESC:Veranstaltungen für Netzwerk Freie Szene Saar e.V.
REFRESH-INTERVAL;VALUE=DURATION:PT1H
X-Robots-Tag:noindex
X-PUBLISHED-TTL:PT1H
BEGIN:VTIMEZONE
TZID:Europe/Berlin
BEGIN:DAYLIGHT
TZOFFSETFROM:+0100
TZOFFSETTO:+0200
TZNAME:CEST
DTSTART:20240331T010000
END:DAYLIGHT
BEGIN:STANDARD
TZOFFSETFROM:+0200
TZOFFSETTO:+0100
TZNAME:CET
DTSTART:20241027T010000
END:STANDARD
BEGIN:DAYLIGHT
TZOFFSETFROM:+0100
TZOFFSETTO:+0200
TZNAME:CEST
DTSTART:20250330T010000
END:DAYLIGHT
BEGIN:STANDARD
TZOFFSETFROM:+0200
TZOFFSETTO:+0100
TZNAME:CET
DTSTART:20251026T010000
END:STANDARD
BEGIN:DAYLIGHT
TZOFFSETFROM:+0100
TZOFFSETTO:+0200
TZNAME:CEST
DTSTART:20260329T010000
END:DAYLIGHT
BEGIN:STANDARD
TZOFFSETFROM:+0200
TZOFFSETTO:+0100
TZNAME:CET
DTSTART:20261025T010000
END:STANDARD
END:VTIMEZONE
BEGIN:VEVENT
DTSTART;TZID=Europe/Berlin:20250628T150000
DTEND;TZID=Europe/Berlin:20250628T155000
DTSTAMP:20260423T092041
CREATED:20250606T060821Z
LAST-MODIFIED:20250606T061821Z
UID:6904-1751122800-1751125800@www.freieszenesaar.de
SUMMARY:Die Wanze ... nur der Floh war Zeuge!
DESCRIPTION:Wanze Muldoon heißt zwar Wanze\, ist aber ein Käfer und hat alle Eigenschaften eines guten Privatdetektivs: Er ist klug\, mutig\, ziemlich vorlaut\, und er ist cool! Und es wird spannend\, denn\, so umreißt Muldoon seine Lage: „Ich stecke wieder genau da\, wo ich mich bestens auskenne – in großen\, großen Schwierigkeiten.“ \nMuldoon\, ein gelungener Doppelgänger des legendären Philip Marlowe\, nimmt den Auftrag an\, einen verschwundenen Ohrenkneifer namens Eddie zu suchen. Ihm hilft sein bester Freund\, der stotternde Jake aus dem Clan der Stubenfliegen.\nBei seinen Recherchen stößt Muldoon auf allerlei Ungereimtheiten im Insektenvolk: Da wären die aufständischen Ameisengruppen\, die kämpferischen Wespengeschwader\, die mörderische Riesenspinne und anderes Krabbelgetier. \nWas als harmloser Job beginnt\, entpuppt sich als gefährliche politische Verschwörung – die friedliche Zukunft des Gartens steht auf dem Spiel. Und es geht mörderisch zu\, im Reich der Insekten\, denn ein vierköpfiges Wespen-Killer-Kommando soll Muldoon beseitigen. Aber seht selbst\, wie Muldoon sich aus dieser brenzligen Situation befreit.
URL:https://www.freieszenesaar.de/veranstaltung/die-wanze-nur-der-floh-war-zeuge/
LOCATION:Dreiland Theater\, Feldstr. 8\, Perl-Wochern\, 66706
CATEGORIES:Figuren- und Objekttheater
ATTACH;FMTTYPE=image/jpeg:https://www.freieszenesaar.de/wp-content/uploads/2025/06/31.05.-nur-der-Floh-war-Zeuge-klein.jpg
END:VEVENT
END:VCALENDAR