BEGIN:VCALENDAR
VERSION:2.0
PRODID:-//Netzwerk Freie Szene Saar e.V. - ECPv6.15.20//NONSGML v1.0//EN
CALSCALE:GREGORIAN
METHOD:PUBLISH
X-WR-CALNAME:Netzwerk Freie Szene Saar e.V.
X-ORIGINAL-URL:https://www.freieszenesaar.de
X-WR-CALDESC:Veranstaltungen für Netzwerk Freie Szene Saar e.V.
REFRESH-INTERVAL;VALUE=DURATION:PT1H
X-Robots-Tag:noindex
X-PUBLISHED-TTL:PT1H
BEGIN:VTIMEZONE
TZID:Europe/Berlin
BEGIN:DAYLIGHT
TZOFFSETFROM:+0100
TZOFFSETTO:+0200
TZNAME:CEST
DTSTART:20240331T010000
END:DAYLIGHT
BEGIN:STANDARD
TZOFFSETFROM:+0200
TZOFFSETTO:+0100
TZNAME:CET
DTSTART:20241027T010000
END:STANDARD
BEGIN:DAYLIGHT
TZOFFSETFROM:+0100
TZOFFSETTO:+0200
TZNAME:CEST
DTSTART:20250330T010000
END:DAYLIGHT
BEGIN:STANDARD
TZOFFSETFROM:+0200
TZOFFSETTO:+0100
TZNAME:CET
DTSTART:20251026T010000
END:STANDARD
BEGIN:DAYLIGHT
TZOFFSETFROM:+0100
TZOFFSETTO:+0200
TZNAME:CEST
DTSTART:20260329T010000
END:DAYLIGHT
BEGIN:STANDARD
TZOFFSETFROM:+0200
TZOFFSETTO:+0100
TZNAME:CET
DTSTART:20261025T010000
END:STANDARD
END:VTIMEZONE
BEGIN:VEVENT
DTSTART;TZID=Europe/Berlin:20250926T083000
DTEND;TZID=Europe/Berlin:20250926T091500
DTSTAMP:20260423T033817
CREATED:20250912T175320Z
LAST-MODIFIED:20250918T121259Z
UID:10000153-1758875400-1758878100@www.freieszenesaar.de
SUMMARY:Theaterwoche für junges Publikum: Die Wanze
DESCRIPTION:*** Für Schulklassen *** \nEin mysteriöser Todesfall erschüttert das Insektenmilieu: Mitten in der idyllischen Gartenwelt wird ein Igel tot aufgefunden – und niemand weiß\, warum. Die Insekten sind ratlos\, der einzige Zeuge\, ein Floh\, doch der leidet ausgerechnet jetzt an Gedächtnisverlust. Die Lage ist brisant\, das Rätsel komplex – höchste Zeit für einen Profi! \nDer legendäre Insektendetektiv Wanze Muldoon – mit Spürsinn\, Charme und einem grünen Daumen ermittelt er in einem Netz aus Intrigen\, das bis ins Haus der Menschen führt. Verboten spannend\, kriminell komisch und voller Käfer-Karacho – dieser zweite Fall aus der Feder von Paul Shipton ist ein Muss für alle kleinen und großen Krimifans! \nTauchen Sie ein in eine Welt aus Rhabarberblättern\, Rosentau-Drinks und brenzligen Begegnungen. \nNach dem gleichnamigen Kinderbuch von Paul Shipton \n*************** \nKinderKulturWoche \nVom 22. bis 26. September 2025 veranstaltet das Netzwerk Freie Szene Saar gemeinsam mit der Stadt Völklingen erstmals die KinderKulturWoche – eine ganze Woche Theater für Junges Publikum\, speziell für Schulklassen. Alle Vorstellungen sind für die Kinder kostenlos. Veranstaltungsort ist die Kulturhalle Wehrden in Völklingen. \nVölklingen zählt zu den Städten mit einer besonders hohen Armutsquote. Für viele Kinder und Jugendliche bedeutet das\, dass sie nur selten Zugang zu kulturellen Angeboten haben. Genau hier setzt die KinderKulturWoche an: Kulturelle Teilhabe darf nicht vom Geldbeutel abhängen.
URL:https://www.freieszenesaar.de/veranstaltung/die-wanze-kinderkulturwoche/2025-09-26/1/
LOCATION:Kulturhalle Wehrden\, Schaffhauser Str. 18\, Völklingen\, Saarland\, 66333\, Germany
ATTACH;FMTTYPE=image/png:https://www.freieszenesaar.de/wp-content/uploads/2025/09/Die-Wanze_Dreiland-Theater.png
END:VEVENT
END:VCALENDAR