BEGIN:VCALENDAR
VERSION:2.0
PRODID:-//Netzwerk Freie Szene Saar e.V. - ECPv6.15.20//NONSGML v1.0//EN
CALSCALE:GREGORIAN
METHOD:PUBLISH
X-WR-CALNAME:Netzwerk Freie Szene Saar e.V.
X-ORIGINAL-URL:https://www.freieszenesaar.de
X-WR-CALDESC:Veranstaltungen für Netzwerk Freie Szene Saar e.V.
REFRESH-INTERVAL;VALUE=DURATION:PT1H
X-Robots-Tag:noindex
X-PUBLISHED-TTL:PT1H
BEGIN:VTIMEZONE
TZID:Europe/Berlin
BEGIN:DAYLIGHT
TZOFFSETFROM:+0100
TZOFFSETTO:+0200
TZNAME:CEST
DTSTART:20240331T010000
END:DAYLIGHT
BEGIN:STANDARD
TZOFFSETFROM:+0200
TZOFFSETTO:+0100
TZNAME:CET
DTSTART:20241027T010000
END:STANDARD
BEGIN:DAYLIGHT
TZOFFSETFROM:+0100
TZOFFSETTO:+0200
TZNAME:CEST
DTSTART:20250330T010000
END:DAYLIGHT
BEGIN:STANDARD
TZOFFSETFROM:+0200
TZOFFSETTO:+0100
TZNAME:CET
DTSTART:20251026T010000
END:STANDARD
BEGIN:DAYLIGHT
TZOFFSETFROM:+0100
TZOFFSETTO:+0200
TZNAME:CEST
DTSTART:20260329T010000
END:DAYLIGHT
BEGIN:STANDARD
TZOFFSETFROM:+0200
TZOFFSETTO:+0100
TZNAME:CET
DTSTART:20261025T010000
END:STANDARD
END:VTIMEZONE
BEGIN:VEVENT
DTSTART;TZID=Europe/Berlin:20250925T103000
DTEND;TZID=Europe/Berlin:20250925T111500
DTSTAMP:20260423T050738
CREATED:20250912T174840Z
LAST-MODIFIED:20250918T120959Z
UID:10000150-1758796200-1758798900@www.freieszenesaar.de
SUMMARY:Theaterwoche für junges Publikum: Der Fisch im Ohr
DESCRIPTION:*** Für Schulklassen *** \nWie funktioniert eigentlich unser Ohr? Tja… dazu muss man mehr über Fische wissen! Also machen wir eine kleine Entdeckungsreise. Wir tauchen mit unseren Ohren zum Meeresgrund\, und während es um uns und unsere Ohren zart gurgelt\, wild plätschert\, lustig gluckert und mächtig rauscht\, erfahren wir vom urzeitlichen Quastenflosser\, finden zauberhaften Tiefseeanemonen\, treffen zwei Forscher in einem Labor\, und alle erzählen uns die geheimnisvolle\, poetische und wissenschaftliche Geschichte unserer verschnörkelten Innenohrschnecke mit ihren zahllosen unersättlichen Hörhärchen… \nIm Anschluss gibt es ein Publikumsgespräch mit den Kindern. Wir haben ein echtes Ohrmodell dabei! \n  \n*************** \nKinderKulturWoche \nVom 22. bis 26. September 2025 veranstaltet das Netzwerk Freie Szene Saar gemeinsam mit der Stadt Völklingen erstmals die KinderKulturWoche – eine ganze Woche Theater für Junges Publikum\, speziell für Schulklassen. Alle Vorstellungen sind für die Kinder kostenlos. Veranstaltungsort ist die Kulturhalle Wehrden in Völklingen. \nVölklingen zählt zu den Städten mit einer besonders hohen Armutsquote. Für viele Kinder und Jugendliche bedeutet das\, dass sie nur selten Zugang zu kulturellen Angeboten haben. Genau hier setzt die KinderKulturWoche an: Kulturelle Teilhabe darf nicht vom Geldbeutel abhängen.
URL:https://www.freieszenesaar.de/veranstaltung/der-fisch-im-ohr/2025-09-25/2/
LOCATION:Kulturhalle Wehrden\, Schaffhauser Str. 18\, Völklingen\, Saarland\, 66333\, Germany
ATTACH;FMTTYPE=image/png:https://www.freieszenesaar.de/wp-content/uploads/2025/09/Fisch-im-Ohr_Liquid-Penguin-Ensemble.png
END:VEVENT
END:VCALENDAR