BEGIN:VCALENDAR
VERSION:2.0
PRODID:-//Netzwerk Freie Szene Saar e.V. - ECPv6.15.20//NONSGML v1.0//EN
CALSCALE:GREGORIAN
METHOD:PUBLISH
X-ORIGINAL-URL:https://www.freieszenesaar.de
X-WR-CALDESC:Veranstaltungen für Netzwerk Freie Szene Saar e.V.
REFRESH-INTERVAL;VALUE=DURATION:PT1H
X-Robots-Tag:noindex
X-PUBLISHED-TTL:PT1H
BEGIN:VTIMEZONE
TZID:Europe/Berlin
BEGIN:DAYLIGHT
TZOFFSETFROM:+0100
TZOFFSETTO:+0200
TZNAME:CEST
DTSTART:20250330T010000
END:DAYLIGHT
BEGIN:STANDARD
TZOFFSETFROM:+0200
TZOFFSETTO:+0100
TZNAME:CET
DTSTART:20251026T010000
END:STANDARD
BEGIN:DAYLIGHT
TZOFFSETFROM:+0100
TZOFFSETTO:+0200
TZNAME:CEST
DTSTART:20260329T010000
END:DAYLIGHT
BEGIN:STANDARD
TZOFFSETFROM:+0200
TZOFFSETTO:+0100
TZNAME:CET
DTSTART:20261025T010000
END:STANDARD
BEGIN:DAYLIGHT
TZOFFSETFROM:+0100
TZOFFSETTO:+0200
TZNAME:CEST
DTSTART:20270328T010000
END:DAYLIGHT
BEGIN:STANDARD
TZOFFSETFROM:+0200
TZOFFSETTO:+0100
TZNAME:CET
DTSTART:20271031T010000
END:STANDARD
END:VTIMEZONE
BEGIN:VEVENT
DTSTART;TZID=Europe/Berlin:20260427T183000
DTEND;TZID=Europe/Berlin:20260427T213000
DTSTAMP:20260423T061608
CREATED:20260326T160609Z
LAST-MODIFIED:20260326T162724Z
UID:10000220-1777314600-1777325400@www.freieszenesaar.de
SUMMARY:Ich sag Dir meine Meinung
DESCRIPTION:Nein\, bei dieser Workshopreihe geht es nicht darum\, wer am lautesten schreit. „Jeder Mensch hat auf seine Weise recht“. Und wir profitieren davon\, einander zuzuhören\, andere Perspektiven zuzulassen\, uns in die Köpfe anderer hineinzudenken und unseren eigenen Standpunkt klar zu äußern. \nDiese Kultur des bereichernden Austauschs wird an acht Montagen unter Anleitung durch die Literatur-\, Geschichts- und Theaterwissenschaftlerin Melanie Streibelt eingeübt\, wobei man an einem\, mehreren oder allen Workshops teilnehmen kann. Eine Teilnahmebestätigung erhält man auf Wunsch ab fünf absolvierten Terminen. \nDieses Projekt wird gefördert – und zusätzlich zeigen die Teilnehmenden mit ihrem gesammelten Beitrag in Höhe von 60 € pro Termin ihre Wertschätzung für Angebote der Soziokultur. \nEine Anmeldung bei post@kleines-paeckchen.de ist erforderlich.
URL:https://www.freieszenesaar.de/veranstaltung/ich-sag-dir-meine-meinung-6/
LOCATION:Breite 63 | ZBB gGmbH\, Breite Straße 63\, Saarbrücken\, 66115
CATEGORIES:Diskurs,Workshop
ATTACH;FMTTYPE=image/jpeg:https://www.freieszenesaar.de/wp-content/uploads/2026/03/Schreibwerkstatt__1_.jpg
GEO:49.2400783;6.9697867
X-APPLE-STRUCTURED-LOCATION;VALUE=URI;X-ADDRESS=Breite 63 | ZBB gGmbH Breite Straße 63 Saarbrücken 66115;X-APPLE-RADIUS=500;X-TITLE=Breite Straße 63:geo:6.9697867,49.2400783
END:VEVENT
BEGIN:VEVENT
DTSTART;TZID=Europe/Berlin:20260508T180000
DTEND;TZID=Europe/Berlin:20260509T160000
DTSTAMP:20260423T061608
CREATED:20260329T160927Z
LAST-MODIFIED:20260330T104453Z
UID:10000226-1778263200-1778342400@www.freieszenesaar.de
SUMMARY:Experimance Festival 2026
DESCRIPTION:DEUTSCH \nDrei Tage voller Klang\, Experiment und künstlerischer Begegnungen:\nDas Experimance Festival 2026 lädt dazu ein\, die Grenzen zwischen Musik\, Klangkunst und Performance neu zu erleben.\nVom 8. bis 10. Mai 2026 verwandelt sich das Kulturgut Ost in Saarbrücken in einen lebendigen Resonanzraum für experimentelle Kunstformen. \nKonzerte\, Installationen\, Performances\, DJs und Workshops schaffen intensive Hörerlebnisse und eröffnen neue Perspektiven auf Klang und Raum.\nEin vielseitiges Line-up mit regionalen\, nationalen und internationalen Künstler*innen. \nMehrtägige Veranstaltung: \nFreitag: 18:00 Uhr bis open end\nSamstag: 14:00 bis Sonntag 6:00 Uhr\nSonntag: 16:00 bis 19:30 Uhr \nENGLISH \nThree days of sound\, experimentation and artistic encounters:\nExperimance Festival 2026 invites audiences to experience the boundaries between music\, sound art and performance in new ways.\nFrom May 8–10\, 2026\, Kulturgut Ost in Saarbrücken transforms into a vibrant resonance space for experimental artistic practices. \nConcerts\, installations\, performances\, DJ sets and workshops create immersive listening experiences and open up new perspectives on sound and space.\nA diverse line-up of regional\, national and international artists. \nGet your ticket now ♡ \nDE\nMenschen mit rassistischen\, diskriminierenden oder intoleranten Einstellungen sind bei dieser Veranstaltung nicht willkommen. \nEN\nPeople with racist\, discriminatory or intolerant attitudes are not welcome at this event.
URL:https://www.freieszenesaar.de/veranstaltung/experimance-festival-2026/
LOCATION:Kulturgut Ost\, An der Römerbrücke 3 - 5\, Saarbrücken / Saarland\, 66121
CATEGORIES:Experimentelle Musik, Klangkunst & Performance,Konzerte,Performance,Workshop
ATTACH;FMTTYPE=image/jpeg:https://www.freieszenesaar.de/wp-content/uploads/2026/03/Instagram-Post_EXP_2026_45-Praesentation-1.jpg
END:VEVENT
BEGIN:VEVENT
DTSTART;TZID=Europe/Berlin:20260509T140000
DTEND;TZID=Europe/Berlin:20260510T120000
DTSTAMP:20260423T061608
CREATED:20260329T161226Z
LAST-MODIFIED:20260330T104330Z
UID:10000227-1778335200-1778414400@www.freieszenesaar.de
SUMMARY:Experimance Festival 2026
DESCRIPTION:DEUTSCH \nDrei Tage voller Klang\, Experiment und künstlerischer Begegnungen:\nDas Experimance Festival 2026 lädt dazu ein\, die Grenzen zwischen Musik\, Klangkunst und Performance neu zu erleben.\nVom 8. bis 10. Mai 2026 verwandelt sich das Kulturgut Ost in Saarbrücken in einen lebendigen Resonanzraum für experimentelle Kunstformen. \nKonzerte\, Installationen\, Performances\, DJs und Workshops schaffen intensive Hörerlebnisse und eröffnen neue Perspektiven auf Klang und Raum.\nEin vielseitiges Line-up mit regionalen\, nationalen und internationalen Künstler*innen. \nMehrtägige Veranstaltung: \nFreitag: 18:00 Uhr bis open end\nSamstag: 14:00 bis Sonntag 6:00 Uhr\nSonntag: 16:00 bis 19:30 Uhr \nENGLISH \nThree days of sound\, experimentation and artistic encounters:\nExperimance Festival 2026 invites audiences to experience the boundaries between music\, sound art and performance in new ways.\nFrom May 8–10\, 2026\, Kulturgut Ost in Saarbrücken transforms into a vibrant resonance space for experimental artistic practices. \nConcerts\, installations\, performances\, DJ sets and workshops create immersive listening experiences and open up new perspectives on sound and space.\nA diverse line-up of regional\, national and international artists. \nGet your ticket now ♡ \nDE\nMenschen mit rassistischen\, diskriminierenden oder intoleranten Einstellungen sind bei dieser Veranstaltung nicht willkommen. \nEN\nPeople with racist\, discriminatory or intolerant attitudes are not welcome at this event.
URL:https://www.freieszenesaar.de/veranstaltung/experimance-festival-2026-2/
LOCATION:Kulturgut Ost\, An der Römerbrücke 3 - 5\, Saarbrücken / Saarland\, 66121
CATEGORIES:Experimentelle Musik, Klangkunst & Performance,Konzerte,Performance,Workshop
ATTACH;FMTTYPE=image/jpeg:https://www.freieszenesaar.de/wp-content/uploads/2026/03/Instagram-Post_EXP_2026_45-Praesentation-1.jpg
END:VEVENT
BEGIN:VEVENT
DTSTART;TZID=Europe/Berlin:20260510T160000
DTEND;TZID=Europe/Berlin:20260511T140000
DTSTAMP:20260423T061608
CREATED:20260329T161343Z
LAST-MODIFIED:20260330T104134Z
UID:10000228-1778428800-1778508000@www.freieszenesaar.de
SUMMARY:Experimance Festival 2026
DESCRIPTION:DEUTSCH \nDrei Tage voller Klang\, Experiment und künstlerischer Begegnungen:\nDas Experimance Festival 2026 lädt dazu ein\, die Grenzen zwischen Musik\, Klangkunst und Performance neu zu erleben.\nVom 8. bis 10. Mai 2026 verwandelt sich das Kulturgut Ost in Saarbrücken in einen lebendigen Resonanzraum für experimentelle Kunstformen. \nKonzerte\, Installationen\, Performances\, DJs und Workshops schaffen intensive Hörerlebnisse und eröffnen neue Perspektiven auf Klang und Raum.\nEin vielseitiges Line-up mit regionalen\, nationalen und internationalen Künstler*innen. \nMehrtägige Veranstaltung: \nFreitag: 18:00 Uhr bis open end\nSamstag: 14:00 bis Sonntag 6:00 Uhr\nSonntag: 16:00 bis 19:30 Uhr \nENGLISH \nThree days of sound\, experimentation and artistic encounters:\nExperimance Festival 2026 invites audiences to experience the boundaries between music\, sound art and performance in new ways.\nFrom May 8–10\, 2026\, Kulturgut Ost in Saarbrücken transforms into a vibrant resonance space for experimental artistic practices. \nConcerts\, installations\, performances\, DJ sets and workshops create immersive listening experiences and open up new perspectives on sound and space.\nA diverse line-up of regional\, national and international artists. \nGet your ticket now ♡ \nDE\nMenschen mit rassistischen\, diskriminierenden oder intoleranten Einstellungen sind bei dieser Veranstaltung nicht willkommen. \nEN\nPeople with racist\, discriminatory or intolerant attitudes are not welcome at this event.
URL:https://www.freieszenesaar.de/veranstaltung/experimance-festival-2026-3/
LOCATION:Kulturgut Ost\, An der Römerbrücke 3 - 5\, Saarbrücken / Saarland\, 66121
CATEGORIES:Experimentelle Musik, Klangkunst & Performance,Konzerte,Performance,Workshop
ATTACH;FMTTYPE=image/jpeg:https://www.freieszenesaar.de/wp-content/uploads/2026/03/Instagram-Post_EXP_2026_45-Praesentation-1.jpg
END:VEVENT
BEGIN:VEVENT
DTSTART;TZID=Europe/Berlin:20260511T183000
DTEND;TZID=Europe/Berlin:20260511T213000
DTSTAMP:20260423T061608
CREATED:20260326T160709Z
LAST-MODIFIED:20260326T163030Z
UID:10000221-1778524200-1778535000@www.freieszenesaar.de
SUMMARY:Ich sag Dir meine Meinung
DESCRIPTION:Nein\, bei dieser Workshopreihe geht es nicht darum\, wer am lautesten schreit. „Jeder Mensch hat auf seine Weise recht“. Und wir profitieren davon\, einander zuzuhören\, andere Perspektiven zuzulassen\, uns in die Köpfe anderer hineinzudenken und unseren eigenen Standpunkt klar zu äußern. \nDiese Kultur des bereichernden Austauschs wird an acht Montagen unter Anleitung durch die Literatur-\, Geschichts- und Theaterwissenschaftlerin Melanie Streibelt eingeübt\, wobei man an einem\, mehreren oder allen Workshops teilnehmen kann. Eine Teilnahmebestätigung erhält man auf Wunsch ab fünf absolvierten Terminen. \nDieses Projekt wird von der Landeshauptstadt Saarbrücken und der Arbeit und Kultur gGmbH gefördert.\nZusätzlich wird bei jedem Termin ein gemeinsamer Spendenbeitrag in Höhe von insgesamt 60 € zur Unterstützung soziokultureller Angebote gesammelt. \nEine Anmeldung per Mail an post@kleines-paeckchen.de ist erforderlich.
URL:https://www.freieszenesaar.de/veranstaltung/ich-sag-dir-meine-meinung-7/
LOCATION:Breite 63 | ZBB gGmbH\, Breite Straße 63\, Saarbrücken\, 66115
CATEGORIES:Diskurs,Workshop
ATTACH;FMTTYPE=image/jpeg:https://www.freieszenesaar.de/wp-content/uploads/2026/03/Schreibwerkstatt__1_.jpg
GEO:49.2400783;6.9697867
X-APPLE-STRUCTURED-LOCATION;VALUE=URI;X-ADDRESS=Breite 63 | ZBB gGmbH Breite Straße 63 Saarbrücken 66115;X-APPLE-RADIUS=500;X-TITLE=Breite Straße 63:geo:6.9697867,49.2400783
END:VEVENT
BEGIN:VEVENT
DTSTART;TZID=Europe/Berlin:20260518T183000
DTEND;TZID=Europe/Berlin:20260518T213000
DTSTAMP:20260423T061608
CREATED:20260326T160857Z
LAST-MODIFIED:20260326T163405Z
UID:10000222-1779129000-1779139800@www.freieszenesaar.de
SUMMARY:Ich sag Dir meine Meinung
DESCRIPTION:Nein\, bei dieser Workshopreihe geht es nicht darum\, wer am lautesten schreit. „Jeder Mensch hat auf seine Weise recht“. Und wir profitieren davon\, einander zuzuhören\, andere Perspektiven zuzulassen\, uns in die Köpfe anderer hineinzudenken und unseren eigenen Standpunkt klar zu äußern. \nDiese Kultur des bereichernden Austauschs wird an acht Montagen unter Anleitung durch die Literatur-\, Geschichts- und Theaterwissenschaftlerin Melanie Streibelt eingeübt\, wobei man an einem\, mehreren oder allen Workshops teilnehmen kann. Eine Teilnahmebestätigung erhält man auf Wunsch ab fünf absolvierten Terminen. \nDieses Projekt wird von der Landeshauptstadt Saarbrücken und der Arbeit und Kultur gGmbH gefördert.\nZusätzlich wird bei jedem Termin ein gemeinsamer Spendenbeitrag in Höhe von insgesamt 60 € zur Unterstützung soziokultureller Angebote gesammelt. \nEine Anmeldung per Mail an post@kleines-paeckchen.de ist erforderlich.
URL:https://www.freieszenesaar.de/veranstaltung/ich-sag-dir-meine-meinung-8/
LOCATION:Breite 63 | ZBB gGmbH\, Breite Straße 63\, Saarbrücken\, 66115
CATEGORIES:Diskurs,Workshop
ATTACH;FMTTYPE=image/jpeg:https://www.freieszenesaar.de/wp-content/uploads/2026/03/Schreibwerkstatt__1_.jpg
GEO:49.2400783;6.9697867
X-APPLE-STRUCTURED-LOCATION;VALUE=URI;X-ADDRESS=Breite 63 | ZBB gGmbH Breite Straße 63 Saarbrücken 66115;X-APPLE-RADIUS=500;X-TITLE=Breite Straße 63:geo:6.9697867,49.2400783
END:VEVENT
BEGIN:VEVENT
DTSTART;TZID=Europe/Berlin:20260527T184500
DTEND;TZID=Europe/Berlin:20260527T211500
DTSTAMP:20260423T061608
CREATED:20260330T202711Z
LAST-MODIFIED:20260330T202711Z
UID:10000229-1779907500-1779916500@www.freieszenesaar.de
SUMMARY:La Grande Forme
DESCRIPTION:Hart getroffen von ihrer besten Feindin\, wehrt sich das Team\, organisiert sich neu und präsentiert eine neue Version des Stücks mit sechs Schauspielerinnen\, die ganz bewusst mehrsprachig ist. \nDa die Zeiten hart sind und sich Forschung nicht auszahlt\, haben sie beschlossen\, ihre Dienste anzubieten.\nSie wechseln also in die Privatwirtschaft. Sie? Das Team (die Squadra\, auf Französisch „l’Équipe“). Sechs Schauspielerinnen\, sechs Feldforscherinnen.\nIhr Fachgebiet? Die Handlung. Die Handlung auf der Bühne nachstellen. Und von der Bühne zum Tatort ist es nur ein kleiner Schritt der Fiktion.\nSie legen sich als Leichen hin\, lassen Blut spritzen\, rappeln sich nach dem Sturz wieder auf\, finden die letzten Spuren\, lassen Schläge hageln und lösen den Fall.\nOder nicht.
URL:https://www.freieszenesaar.de/veranstaltung/la-grande-forme-5/
LOCATION:Bataville\, 8\, Avenue Tomas Bata\, Moussey\, 57770
CATEGORIES:Außerhalb des Saarlandes,Theater
ATTACH;FMTTYPE=image/jpeg:https://www.freieszenesaar.de/wp-content/uploads/2026/03/LGF-DE.jpg
GEO:48.6859031;6.8050924
X-APPLE-STRUCTURED-LOCATION;VALUE=URI;X-ADDRESS=Bataville 8 Avenue Tomas Bata Moussey 57770;X-APPLE-RADIUS=500;X-TITLE=8\, Avenue Tomas Bata:geo:6.8050924,48.6859031
END:VEVENT
BEGIN:VEVENT
DTSTART;TZID=Europe/Berlin:20260530T150000
DTEND;TZID=Europe/Berlin:20260530T160000
DTSTAMP:20260423T061608
CREATED:20260126T071101Z
LAST-MODIFIED:20260126T072338Z
UID:10000198-1780153200-1780156800@www.freieszenesaar.de
SUMMARY:SOUNDSHAPES
DESCRIPTION:Im Mai 2026 erwartet Sie eine außergewöhnliche Live-Performance im Erlebnisort Reden: Ein lebender Skulpturgarten oder vielmehr Klangformen\, die den Wassergarten durchdringen\, der sich unter dem Stahlskelett der ehemaligen Sieberei und Verladehallen erstreckt. \nBeim Flanieren und Lauschen entfalten sich für die Besucher*innen der Inszenierung „Soundshapes“ unerwartete\, skurrile\, poetische und fantastische Szenen\, die Geschichten aus der Vergangenheit\, der Gegenwart und der Zukunft erzählen. \nSOUNDSHAPES ist eine gemeinsame Produktion zweier Ensembles aus dem Saarland: des In.Zeit Ensembles\, bekannt für seine musikalische Vielfalt\, und des oSONo Kollektivs\, eines Performance-Kollektivs mit Schwerpunkt auf interdisziplinärer Arbeit. \nLassen Sie Ihrer Fantasie freien Lauf und werden Sie Teil eines einzigartigen Erlebnisses! Kunst- und Musikbegeisterte – insbesondere ein junges Publikum – werden hier besonders angesprochen. \nTreffpunkt: 15 min vor der Vorstellung auf dem Parkplatz 1 im Erlebnisort Reden (Bildstockstraße\, vor GONDWANA – Das Praehistorium)
URL:https://www.freieszenesaar.de/veranstaltung/soundshapes/
LOCATION:Erlebnisort Reden\, Am Bergwerk Reden 11\, Schiffweiler\, 66578
CATEGORIES:Performance
ATTACH;FMTTYPE=image/png:https://www.freieszenesaar.de/wp-content/uploads/2026/01/Bild-1.png
END:VEVENT
BEGIN:VEVENT
DTSTART;TZID=Europe/Berlin:20260530T180000
DTEND;TZID=Europe/Berlin:20260530T190000
DTSTAMP:20260423T061608
CREATED:20260126T072332Z
LAST-MODIFIED:20260126T072332Z
UID:10000199-1780164000-1780167600@www.freieszenesaar.de
SUMMARY:SOUNDSHAPES
DESCRIPTION:Im Mai 2026 erwartet Sie eine außergewöhnliche Live-Performance im Erlebnisort Reden: Ein lebender Skulpturgarten oder vielmehr Klangformen\, die den Wassergarten durchdringen\, der sich unter dem Stahlskelett der ehemaligen Sieberei und Verladehallen erstreckt. \nBeim Flanieren und Lauschen entfalten sich für die Besucher*innen der Inszenierung „Soundshapes“ unerwartete\, skurrile\, poetische und fantastische Szenen\, die Geschichten aus der Vergangenheit\, der Gegenwart und der Zukunft erzählen. \nSOUNDSHAPES ist eine gemeinsame Produktion zweier Ensembles aus dem Saarland: des In.Zeit Ensembles\, bekannt für seine musikalische Vielfalt\, und des oSONo Kollektivs\, eines Performance-Kollektivs mit Schwerpunkt auf interdisziplinärer Arbeit. \nLassen Sie Ihrer Fantasie freien Lauf und werden Sie Teil eines einzigartigen Erlebnisses! Kunst- und Musikbegeisterte – insbesondere ein junges Publikum – werden hier besonders angesprochen. \nTreffpunkt: 15 min vor der Vorstellung auf dem Parkplatz 1 im Erlebnisort Reden (Bildstockstraße\, vor GONDWANA – Das Praehistorium)
URL:https://www.freieszenesaar.de/veranstaltung/soundshapes-2/
LOCATION:Erlebnisort Reden\, Am Bergwerk Reden 11\, Schiffweiler\, 66578
CATEGORIES:Performance
ATTACH;FMTTYPE=image/png:https://www.freieszenesaar.de/wp-content/uploads/2026/01/Bild-1.png
END:VEVENT
BEGIN:VEVENT
DTSTART;TZID=Europe/Berlin:20260531T150000
DTEND;TZID=Europe/Berlin:20260531T160000
DTSTAMP:20260423T061609
CREATED:20260126T072503Z
LAST-MODIFIED:20260126T072503Z
UID:10000200-1780239600-1780243200@www.freieszenesaar.de
SUMMARY:SOUNDSHAPES
DESCRIPTION:Im Mai 2026 erwartet Sie eine außergewöhnliche Live-Performance im Erlebnisort Reden: Ein lebender Skulpturgarten oder vielmehr Klangformen\, die den Wassergarten durchdringen\, der sich unter dem Stahlskelett der ehemaligen Sieberei und Verladehallen erstreckt. \nBeim Flanieren und Lauschen entfalten sich für die Besucher*innen der Inszenierung „Soundshapes“ unerwartete\, skurrile\, poetische und fantastische Szenen\, die Geschichten aus der Vergangenheit\, der Gegenwart und der Zukunft erzählen. \nSOUNDSHAPES ist eine gemeinsame Produktion zweier Ensembles aus dem Saarland: des In.Zeit Ensembles\, bekannt für seine musikalische Vielfalt\, und des oSONo Kollektivs\, eines Performance-Kollektivs mit Schwerpunkt auf interdisziplinärer Arbeit. \nLassen Sie Ihrer Fantasie freien Lauf und werden Sie Teil eines einzigartigen Erlebnisses! Kunst- und Musikbegeisterte – insbesondere ein junges Publikum – werden hier besonders angesprochen. \nTreffpunkt: 15 min vor der Vorstellung auf dem Parkplatz 1 im Erlebnisort Reden (Bildstockstraße\, vor GONDWANA – Das Praehistorium)
URL:https://www.freieszenesaar.de/veranstaltung/soundshapes-3/
LOCATION:Erlebnisort Reden\, Am Bergwerk Reden 11\, Schiffweiler\, 66578
CATEGORIES:Performance
ATTACH;FMTTYPE=image/png:https://www.freieszenesaar.de/wp-content/uploads/2026/01/Bild-1.png
END:VEVENT
BEGIN:VEVENT
DTSTART;TZID=Europe/Berlin:20260531T180000
DTEND;TZID=Europe/Berlin:20260531T190000
DTSTAMP:20260423T061609
CREATED:20260126T072818Z
LAST-MODIFIED:20260126T072818Z
UID:10000201-1780250400-1780254000@www.freieszenesaar.de
SUMMARY:SOUNDSHAPES
DESCRIPTION:Im Mai 2026 erwartet Sie eine außergewöhnliche Live-Performance im Erlebnisort Reden: Ein lebender Skulpturgarten oder vielmehr Klangformen\, die den Wassergarten durchdringen\, der sich unter dem Stahlskelett der ehemaligen Sieberei und Verladehallen erstreckt. \nBeim Flanieren und Lauschen entfalten sich für die Besucher*innen der Inszenierung „Soundshapes“ unerwartete\, skurrile\, poetische und fantastische Szenen\, die Geschichten aus der Vergangenheit\, der Gegenwart und der Zukunft erzählen. \nSOUNDSHAPES ist eine gemeinsame Produktion zweier Ensembles aus dem Saarland: des In.Zeit Ensembles\, bekannt für seine musikalische Vielfalt\, und des oSONo Kollektivs\, eines Performance-Kollektivs mit Schwerpunkt auf interdisziplinärer Arbeit. \nLassen Sie Ihrer Fantasie freien Lauf und werden Sie Teil eines einzigartigen Erlebnisses! Kunst- und Musikbegeisterte – insbesondere ein junges Publikum – werden hier besonders angesprochen. \nTreffpunkt: 15 min vor der Vorstellung auf dem Parkplatz 1 im Erlebnisort Reden (Bildstockstraße\, vor GONDWANA – Das Praehistorium)
URL:https://www.freieszenesaar.de/veranstaltung/soundshapes-4/
LOCATION:Erlebnisort Reden\, Am Bergwerk Reden 11\, Schiffweiler\, 66578
CATEGORIES:Performance
ATTACH;FMTTYPE=image/png:https://www.freieszenesaar.de/wp-content/uploads/2026/01/Bild-1.png
END:VEVENT
BEGIN:VEVENT
DTSTART;TZID=Europe/Berlin:20260601T183000
DTEND;TZID=Europe/Berlin:20260601T213000
DTSTAMP:20260423T061609
CREATED:20260325T151703Z
LAST-MODIFIED:20260326T163600Z
UID:10000223-1780338600-1780349400@www.freieszenesaar.de
SUMMARY:Ich sag Dir meine Meinung
DESCRIPTION:Nein\, bei dieser Workshopreihe geht es nicht darum\, wer am lautesten schreit. „Jeder Mensch hat auf seine Weise recht“. Und wir profitieren davon\, einander zuzuhören\, andere Perspektiven zuzulassen\, uns in die Köpfe anderer hineinzudenken und unseren eigenen Standpunkt klar zu äußern. \nDiese Kultur des bereichernden Austauschs wird an acht Montagen unter Anleitung durch die Literatur-\, Geschichts- und Theaterwissenschaftlerin Melanie Streibelt eingeübt\, wobei man an einem\, mehreren oder allen Workshops teilnehmen kann. Eine Teilnahmebestätigung erhält man auf Wunsch ab fünf absolvierten Terminen. \nDieses Projekt wird von der Landeshauptstadt Saarbrücken und der Arbeit und Kultur gGmbH gefördert.\nZusätzlich wird bei jedem Termin ein gemeinsamer Spendenbeitrag in Höhe von insgesamt 60 € zur Unterstützung soziokultureller Angebote gesammelt. \nEine Anmeldung per Mail an post@kleines-paeckchen.de ist erforderlich.
URL:https://www.freieszenesaar.de/veranstaltung/ich-sag-dir-meine-meinung/
LOCATION:Breite 63 | ZBB gGmbH\, Breite Straße 63\, Saarbrücken\, 66115
CATEGORIES:Diskurs,Workshop
ATTACH;FMTTYPE=image/jpeg:https://www.freieszenesaar.de/wp-content/uploads/2026/03/Schreibwerkstatt__1_.jpg
GEO:49.2400783;6.9697867
X-APPLE-STRUCTURED-LOCATION;VALUE=URI;X-ADDRESS=Breite 63 | ZBB gGmbH Breite Straße 63 Saarbrücken 66115;X-APPLE-RADIUS=500;X-TITLE=Breite Straße 63:geo:6.9697867,49.2400783
END:VEVENT
BEGIN:VEVENT
DTSTART;TZID=Europe/Berlin:20260615T183000
DTEND;TZID=Europe/Berlin:20260615T213000
DTSTAMP:20260423T061609
CREATED:20260325T152121Z
LAST-MODIFIED:20260326T163740Z
UID:10000224-1781548200-1781559000@www.freieszenesaar.de
SUMMARY:Ich sag Dir meine Meinung
DESCRIPTION:Nein\, bei dieser Workshopreihe geht es nicht darum\, wer am lautesten schreit. „Jeder Mensch hat auf seine Weise recht“. Und wir profitieren davon\, einander zuzuhören\, andere Perspektiven zuzulassen\, uns in die Köpfe anderer hineinzudenken und unseren eigenen Standpunkt klar zu äußern. \nDiese Kultur des bereichernden Austauschs wird an acht Montagen unter Anleitung durch die Literatur-\, Geschichts- und Theaterwissenschaftlerin Melanie Streibelt eingeübt\, wobei man an einem\, mehreren oder allen Workshops teilnehmen kann. Eine Teilnahmebestätigung erhält man auf Wunsch ab fünf absolvierten Terminen. \nDieses Projekt wird von der Landeshauptstadt Saarbrücken und der Arbeit und Kultur gGmbH gefördert.\nZusätzlich wird bei jedem Termin ein gemeinsamer Spendenbeitrag in Höhe von insgesamt 60 € zur Unterstützung soziokultureller Angebote gesammelt. \nEine Anmeldung per Mail an post@kleines-paeckchen.de ist erforderlich.
URL:https://www.freieszenesaar.de/veranstaltung/ich-sag-dir-meine-meinung-2/
LOCATION:Breite 63 | ZBB gGmbH\, Breite Straße 63\, Saarbrücken\, 66115
CATEGORIES:Diskurs,Workshop
ATTACH;FMTTYPE=image/jpeg:https://www.freieszenesaar.de/wp-content/uploads/2026/03/Schreibwerkstatt__1_.jpg
GEO:49.2400783;6.9697867
X-APPLE-STRUCTURED-LOCATION;VALUE=URI;X-ADDRESS=Breite 63 | ZBB gGmbH Breite Straße 63 Saarbrücken 66115;X-APPLE-RADIUS=500;X-TITLE=Breite Straße 63:geo:6.9697867,49.2400783
END:VEVENT
BEGIN:VEVENT
DTSTART;TZID=Europe/Berlin:20260629T183000
DTEND;TZID=Europe/Berlin:20260629T213000
DTSTAMP:20260423T061609
CREATED:20260325T152233Z
LAST-MODIFIED:20260326T163924Z
UID:10000225-1782757800-1782768600@www.freieszenesaar.de
SUMMARY:Ich sag Dir meine Meinung
DESCRIPTION:Nein\, bei dieser Workshopreihe geht es nicht darum\, wer am lautesten schreit. „Jeder Mensch hat auf seine Weise recht“. Und wir profitieren davon\, einander zuzuhören\, andere Perspektiven zuzulassen\, uns in die Köpfe anderer hineinzudenken und unseren eigenen Standpunkt klar zu äußern. \nDiese Kultur des bereichernden Austauschs wird an acht Montagen unter Anleitung durch die Literatur-\, Geschichts- und Theaterwissenschaftlerin Melanie Streibelt eingeübt\, wobei man an einem\, mehreren oder allen Workshops teilnehmen kann. Eine Teilnahmebestätigung erhält man auf Wunsch ab fünf absolvierten Terminen. \nDieses Projekt wird von der Landeshauptstadt Saarbrücken und der Arbeit und Kultur gGmbH gefördert.\nZusätzlich wird bei jedem Termin ein gemeinsamer Spendenbeitrag in Höhe von insgesamt 60 € zur Unterstützung soziokultureller Angebote gesammelt. \nEine Anmeldung per Mail an post@kleines-paeckchen.de ist erforderlich.
URL:https://www.freieszenesaar.de/veranstaltung/ich-sag-dir-meine-meinung-3/
LOCATION:Breite 63 | ZBB gGmbH\, Breite Straße 63\, Saarbrücken\, 66115
CATEGORIES:Diskurs,Workshop
ATTACH;FMTTYPE=image/jpeg:https://www.freieszenesaar.de/wp-content/uploads/2026/03/Schreibwerkstatt__1_.jpg
GEO:49.2400783;6.9697867
X-APPLE-STRUCTURED-LOCATION;VALUE=URI;X-ADDRESS=Breite 63 | ZBB gGmbH Breite Straße 63 Saarbrücken 66115;X-APPLE-RADIUS=500;X-TITLE=Breite Straße 63:geo:6.9697867,49.2400783
END:VEVENT
END:VCALENDAR